BEGIN:VCALENDAR
VERSION:2.0
PRODID:-//Wolfe Milestone - Home of award winning, Canadian country music pioneer - ECPv6.15.17//NONSGML v1.0//EN
CALSCALE:GREGORIAN
METHOD:PUBLISH
X-WR-CALNAME:Wolfe Milestone - Home of award winning, Canadian country music pioneer
X-ORIGINAL-URL:https://www.wolfemilestone.com
X-WR-CALDESC:Events for Wolfe Milestone - Home of award winning, Canadian country music pioneer
REFRESH-INTERVAL;VALUE=DURATION:PT1H
X-Robots-Tag:noindex
X-PUBLISHED-TTL:PT1H
BEGIN:VTIMEZONE
TZID:UTC
BEGIN:STANDARD
TZOFFSETFROM:+0000
TZOFFSETTO:+0000
TZNAME:UTC
DTSTART:20220101T000000
END:STANDARD
END:VTIMEZONE
BEGIN:VEVENT
DTSTART;VALUE=DATE:20240301
DTEND;VALUE=DATE:20240401
DTSTAMP:20260422T160219
CREATED:20240307T122615Z
LAST-MODIFIED:20240307T122615Z
UID:398-1709251200-1711929599@www.wolfemilestone.com
SUMMARY:March Shows
DESCRIPTION:
URL:https://www.wolfemilestone.com/event/march-shows/
END:VEVENT
BEGIN:VEVENT
DTSTART;TZID=UTC:20230923T150000
DTEND;TZID=UTC:20230923T190000
DTSTAMP:20260422T160219
CREATED:20230831T131101Z
LAST-MODIFIED:20230831T131101Z
UID:388-1695481200-1695495600@www.wolfemilestone.com
SUMMARY:The Wolfe Milestone Band
DESCRIPTION:RC Legion Br 606\nPickering\, Ontario \nSeptember 23\, 2023 \n3PM – 7PM
URL:https://www.wolfemilestone.com/event/the-wolfe-milestone-band-13/
END:VEVENT
BEGIN:VEVENT
DTSTART;TZID=UTC:20230915T123000
DTEND;TZID=UTC:20230915T233000
DTSTAMP:20260422T160219
CREATED:20230831T131004Z
LAST-MODIFIED:20230831T131004Z
UID:386-1694781000-1694820600@www.wolfemilestone.com
SUMMARY:The Wolfe Milestone Band
DESCRIPTION:50/60/70’s Rock n’ Roll Music Festival\nStirling Fairgrounds \nSeptember 15\, 2023 \n12:30PM
URL:https://www.wolfemilestone.com/event/the-wolfe-milestone-band-12/
END:VEVENT
BEGIN:VEVENT
DTSTART;TZID=UTC:20230910T150000
DTEND;TZID=UTC:20230910T190000
DTSTAMP:20260422T160219
CREATED:20230831T130836Z
LAST-MODIFIED:20230831T130836Z
UID:384-1694358000-1694372400@www.wolfemilestone.com
SUMMARY:The Wolfe Milestone Band
DESCRIPTION:RC Legion Br 322\nAjax\, Ontario \nSeptember 10\, 2023 \n3PM – 7PM
URL:https://www.wolfemilestone.com/event/the-wolfe-milestone-band-11/
END:VEVENT
BEGIN:VEVENT
DTSTART;TZID=UTC:20230908T210000
DTEND;TZID=UTC:20230909T010000
DTSTAMP:20260422T160219
CREATED:20230831T130710Z
LAST-MODIFIED:20230831T130710Z
UID:382-1694206800-1694221200@www.wolfemilestone.com
SUMMARY:The Wolfe Milestone Band
DESCRIPTION:Caven’s Alley\nMississauga\, Ontario \nSeptember 8\, 2023 \n9PM – 1AM
URL:https://www.wolfemilestone.com/event/the-wolfe-milestone-band-10/
END:VEVENT
BEGIN:VEVENT
DTSTART;TZID=UTC:20230904T130000
DTEND;TZID=UTC:20230904T170000
DTSTAMP:20260422T160219
CREATED:20230831T130541Z
LAST-MODIFIED:20230831T130541Z
UID:380-1693832400-1693846800@www.wolfemilestone.com
SUMMARY:The Wolfe Milestone Band
DESCRIPTION:RC Legion Br 43\nOshawa\, Ontario \nSeptember 4\, 2023 \n1PM – 5PM
URL:https://www.wolfemilestone.com/event/the-wolfe-milestone-band-9/
END:VEVENT
BEGIN:VEVENT
DTSTART;TZID=UTC:20230902T190000
DTEND;TZID=UTC:20230902T223000
DTSTAMP:20260422T160219
CREATED:20230831T130342Z
LAST-MODIFIED:20230831T130342Z
UID:378-1693681200-1693693800@www.wolfemilestone.com
SUMMARY:The Wolfe Milestone Band
DESCRIPTION:Apline RV & Trailer Park\nLindsay\, Ontario \nSeptember 2\, 2023 \n7PM – 10:30PM
URL:https://www.wolfemilestone.com/event/the-wolfe-milestone-band-8/
END:VEVENT
BEGIN:VEVENT
DTSTART;TZID=UTC:20230331T200000
DTEND;TZID=UTC:20230401T000000
DTSTAMP:20260422T160219
CREATED:20230223T181014Z
LAST-MODIFIED:20230223T181014Z
UID:362-1680292800-1680307200@www.wolfemilestone.com
SUMMARY:The Wolfe Milestone Band
DESCRIPTION:FRI\, March 31st \, Bramalea Legion #609\,\nFrom 8 PM till 12 AM\, Legion Convention Dance \n\n\n1133 Queen St \, E\n905 453 – 7710\n\n\n\n 
URL:https://www.wolfemilestone.com/event/the-wolfe-milestone-band-7/
LOCATION:BRAMPTON LEGION – Branch #609\, 1133 Queen St \, E\, BRAMPTON LEGION - Branch #609\, Ontario\, L6T 4E2\, Canada
END:VEVENT
BEGIN:VEVENT
DTSTART;TZID=UTC:20230326T150000
DTEND;TZID=UTC:20230326T190000
DTSTAMP:20260422T160219
CREATED:20230223T180701Z
LAST-MODIFIED:20230223T180742Z
UID:360-1679842800-1679857200@www.wolfemilestone.com
SUMMARY:The Wolfe Milestone Band
DESCRIPTION:SUN\, March 26th \, Scarborough Legion #258\,\nFrom 3 PM till 7 PM\, Afternoon Show \n\n305 Morrish Rd \, Scarborough\n416 281 – 2992\n\n\n \n \n 
URL:https://www.wolfemilestone.com/event/the-wolfe-milestone-band-6/
LOCATION:SCARBOROUGH LEGION – Branch #258\, 305 Morrish Rd\, Scarborough\, Ontario\, M1C 1E9\, Canada
END:VEVENT
BEGIN:VEVENT
DTSTART;TZID=UTC:20230319T140000
DTEND;TZID=UTC:20230319T180000
DTSTAMP:20260422T160219
CREATED:20230223T170610Z
LAST-MODIFIED:20230223T170610Z
UID:358-1679234400-1679248800@www.wolfemilestone.com
SUMMARY:The Wolfe Milestone Band
DESCRIPTION:SUN\, March 19th \, Bramalea Legion #609\,\nFrom 2 PM till 6 PM\, Afternoon Jamboree \n\n1133 Queen St \, E\n905 453 – 7710\n\n\n 
URL:https://www.wolfemilestone.com/event/the-wolfe-milestone-band-5/
LOCATION:BRAMPTON LEGION – Branch #609\, 1133 Queen St \, E\, BRAMPTON LEGION - Branch #609\, Ontario\, L6T 4E2\, Canada
END:VEVENT
BEGIN:VEVENT
DTSTART;TZID=UTC:20230317T200000
DTEND;TZID=UTC:20230318T000000
DTSTAMP:20260422T160219
CREATED:20230223T165501Z
LAST-MODIFIED:20230223T170011Z
UID:351-1679083200-1679097600@www.wolfemilestone.com
SUMMARY:The Wolfe Milestone Band
DESCRIPTION:FRIDAY\, March 17th \, ANAF Club Toronto\,\nFrom 8 PM till 12 AM\, St . Patrick Dance – Night \n1649 Weston Rd \, Toronto\n416 653 – 4545
URL:https://www.wolfemilestone.com/event/the-wolfe-milestone-band-4/
LOCATION:ANAF CLUB TORONTO – #383\, 1649 Weston Rd\, Toronto\, Ontario\, M9N 1V2\, Canada
END:VEVENT
BEGIN:VEVENT
DTSTART;TZID=UTC:20230312T140000
DTEND;TZID=UTC:20230312T180000
DTSTAMP:20260422T160219
CREATED:20230223T165113Z
LAST-MODIFIED:20230223T165156Z
UID:348-1678629600-1678644000@www.wolfemilestone.com
SUMMARY:The Wolfe Milestone Band
DESCRIPTION:SUN\, March 12th \, Bramalea Legion \, Branch #609\nFrom 2 PM till 6 PM\, Afternoon Jamboree  \n1133 Queen St \, E\n905 453 – 7710\n 
URL:https://www.wolfemilestone.com/event/the-wolfe-milestone-band-3/
LOCATION:BRAMPTON LEGION – Branch #609\, 1133 Queen St \, E\, BRAMPTON LEGION - Branch #609\, Ontario\, L6T 4E2\, Canada
END:VEVENT
BEGIN:VEVENT
DTSTART;TZID=UTC:20230305T140000
DTEND;TZID=UTC:20230305T180000
DTSTAMP:20260422T160219
CREATED:20230223T152319Z
LAST-MODIFIED:20230223T181154Z
UID:339-1678024800-1678039200@www.wolfemilestone.com
SUMMARY:The Wolfe Milestone Band
DESCRIPTION:SUN\, March 4th \, Bramalea Legion \, Branch #609\nFrom 2 PM till 6 PM\, Afternoon Jamboree  \n1133 Queen St \, E\n905 453 – 7710\n 
URL:https://www.wolfemilestone.com/event/the-wolfe-milestone-band-2/
LOCATION:BRAMPTON LEGION – Branch #609\, 1133 Queen St \, E\, BRAMPTON LEGION - Branch #609\, Ontario\, L6T 4E2\, Canada
END:VEVENT
BEGIN:VEVENT
DTSTART;TZID=UTC:20230304T200000
DTEND;TZID=UTC:20230305T000000
DTSTAMP:20260422T160219
CREATED:20230223T151747Z
LAST-MODIFIED:20230223T181140Z
UID:333-1677960000-1677974400@www.wolfemilestone.com
SUMMARY:The Wolfe Milestone Band
DESCRIPTION:SAT\, March 4th \, Oshawa Legion \, Branch #43\nFrom 8 PM till 12 AM \n471 Simcoe St \, N\n905 723 – 9211
URL:https://www.wolfemilestone.com/event/the-wolfe-milestone-band/
LOCATION:OSHAWA LEGION – Branch #43\, 471 Simcoe St \, N\, Oshawa\, Ontario\, L1H 4J7\, Canada
END:VEVENT
END:VCALENDAR